BEGIN:VCALENDAR
VERSION:2.0
PRODID:-//HewnHaven is a farm and workshop business that focuses on quality meat, old-world crafts, and ecological land management - ECPv6.15.20//NONSGML v1.0//EN
CALSCALE:GREGORIAN
METHOD:PUBLISH
X-ORIGINAL-URL:https://hewnhaven.com
X-WR-CALDESC:Events for HewnHaven is a farm and workshop business that focuses on quality meat, old-world crafts, and ecological land management
REFRESH-INTERVAL;VALUE=DURATION:PT1H
X-Robots-Tag:noindex
X-PUBLISHED-TTL:PT1H
BEGIN:VTIMEZONE
TZID:America/Chicago
BEGIN:DAYLIGHT
TZOFFSETFROM:-0600
TZOFFSETTO:-0500
TZNAME:CDT
DTSTART:20250309T080000
END:DAYLIGHT
BEGIN:STANDARD
TZOFFSETFROM:-0500
TZOFFSETTO:-0600
TZNAME:CST
DTSTART:20251102T070000
END:STANDARD
BEGIN:DAYLIGHT
TZOFFSETFROM:-0600
TZOFFSETTO:-0500
TZNAME:CDT
DTSTART:20260308T080000
END:DAYLIGHT
BEGIN:STANDARD
TZOFFSETFROM:-0500
TZOFFSETTO:-0600
TZNAME:CST
DTSTART:20261101T070000
END:STANDARD
BEGIN:DAYLIGHT
TZOFFSETFROM:-0600
TZOFFSETTO:-0500
TZNAME:CDT
DTSTART:20270314T080000
END:DAYLIGHT
BEGIN:STANDARD
TZOFFSETFROM:-0500
TZOFFSETTO:-0600
TZNAME:CST
DTSTART:20271107T070000
END:STANDARD
END:VTIMEZONE
BEGIN:VEVENT
DTSTART;VALUE=DATE:20260215
DTEND;VALUE=DATE:20260321
DTSTAMP:20260421T075942
CREATED:20260126T220136Z
LAST-MODIFIED:20260311T144922Z
UID:490-1771113600-1774051199@hewnhaven.com
SUMMARY:Fence Building and Repair
DESCRIPTION:Building and repairing fence is less of a job and more of a “forced romance” between me and a thousand pounds of unruly metal wire. \nThe day usually starts with a “fence check\,” which is just polite terminology for finding problems and not redeemable for cash. I head out armed with a wire stretcher—my magical\, back-saving best friend—and several pounds of fence supplies. \nBy the end of the day\, I’m covered in rust\, my fingers are sore\, and I’ve probably misplaced my fencing pliers three times\, but there’s something oddly satisfying about looking at a line of wire stretched perfectly tight. I just know\, come tomorrow morning\, I’ll be back out there\, mending the same spot.
URL:https://hewnhaven.com/event/fence-building-and-repair
LOCATION:The Farm\, Missouri\, United States
CATEGORIES:Infrastructure
END:VEVENT
END:VCALENDAR