BEGIN:VCALENDAR
VERSION:2.0
PRODID:-//HewnHaven is a farm and workshop business that focuses on quality meat, old-world crafts, and ecological land management - ECPv6.15.20//NONSGML v1.0//EN
CALSCALE:GREGORIAN
METHOD:PUBLISH
X-WR-CALNAME:HewnHaven is a farm and workshop business that focuses on quality meat, old-world crafts, and ecological land management
X-ORIGINAL-URL:https://hewnhaven.com
X-WR-CALDESC:Events for HewnHaven is a farm and workshop business that focuses on quality meat, old-world crafts, and ecological land management
REFRESH-INTERVAL;VALUE=DURATION:PT1H
X-Robots-Tag:noindex
X-PUBLISHED-TTL:PT1H
BEGIN:VTIMEZONE
TZID:America/Chicago
BEGIN:DAYLIGHT
TZOFFSETFROM:-0600
TZOFFSETTO:-0500
TZNAME:CDT
DTSTART:20250309T080000
END:DAYLIGHT
BEGIN:STANDARD
TZOFFSETFROM:-0500
TZOFFSETTO:-0600
TZNAME:CST
DTSTART:20251102T070000
END:STANDARD
BEGIN:DAYLIGHT
TZOFFSETFROM:-0600
TZOFFSETTO:-0500
TZNAME:CDT
DTSTART:20260308T080000
END:DAYLIGHT
BEGIN:STANDARD
TZOFFSETFROM:-0500
TZOFFSETTO:-0600
TZNAME:CST
DTSTART:20261101T070000
END:STANDARD
BEGIN:DAYLIGHT
TZOFFSETFROM:-0600
TZOFFSETTO:-0500
TZNAME:CDT
DTSTART:20270314T080000
END:DAYLIGHT
BEGIN:STANDARD
TZOFFSETFROM:-0500
TZOFFSETTO:-0600
TZNAME:CST
DTSTART:20271107T070000
END:STANDARD
END:VTIMEZONE
BEGIN:VEVENT
DTSTART;VALUE=DATE:20260406
DTEND;VALUE=DATE:20260413
DTSTAMP:20260421T123608
CREATED:20260123T155219Z
LAST-MODIFIED:20260123T155219Z
UID:437-1775433600-1776038399@hewnhaven.com
SUMMARY:Wean the Winter Piglets
DESCRIPTION:Weaning piglets is basically a rowdy piglet graduation ceremony—complete with graduation screams! It is the high-energy process of transitioning piglets from an all-you-can-drink warm milk buffet to “big pig” food. The separation from mom causes a chorus of loud\, characteristic “calls” as they realize the milk bar is closed. \nPiglets spend the first few days learning to share (or fight over) the feeder\, establishing a new “peck order” in their new home. Once they realize pellets taste pretty good\, the screaming stops\, they get fat\, and they become independent\, oinking foragers!
URL:https://hewnhaven.com/event/wean-the-winter-piglets
LOCATION:The Farm\, Missouri\, United States
CATEGORIES:Livestock
END:VEVENT
BEGIN:VEVENT
DTSTART;VALUE=DATE:20260128
DTEND;VALUE=DATE:20260210
DTSTAMP:20260421T123608
CREATED:20260121T165532Z
LAST-MODIFIED:20260123T151519Z
UID:404-1769558400-1770681599@hewnhaven.com
SUMMARY:Winter Farrowing
DESCRIPTION:Outside\, in the woods\, Momma Sows are creating their own cozy\, chaotic world. After a solid day of intense “nesting”—rearranging straw like a pig interior decorator—they’ll finally settle down with a happy\, heavy flop\, letting out a series of deep\, guttural grunts. Then\, the magic happens! Every 15–30 minutes\, with a grand\, dramatic push\, out pops a tiny\, slimy\, “squeaker”. Before Momma can even check her watch\, a little piglet is already scrambling\, stumbling over its siblings to find the milk bar\, guided by pure instinct. Soon\, the nest is a wriggling pile of 10 to 12 newborn piglets\, squeaking and nudging\, while the giant momma rests\, seemingly proud of her new\, chaotic brood. \n\n\n\n\n\n\n\n\n\n 
URL:https://hewnhaven.com/event/winter-farrowing
LOCATION:The Farm\, Missouri\, United States
CATEGORIES:Livestock
END:VEVENT
END:VCALENDAR