BEGIN:VCALENDAR
VERSION:2.0
PRODID:-//HewnHaven is a farm and workshop business that focuses on quality meat, old-world crafts, and ecological land management - ECPv6.15.20//NONSGML v1.0//EN
CALSCALE:GREGORIAN
METHOD:PUBLISH
X-WR-CALNAME:HewnHaven is a farm and workshop business that focuses on quality meat, old-world crafts, and ecological land management
X-ORIGINAL-URL:https://hewnhaven.com
X-WR-CALDESC:Events for HewnHaven is a farm and workshop business that focuses on quality meat, old-world crafts, and ecological land management
REFRESH-INTERVAL;VALUE=DURATION:PT1H
X-Robots-Tag:noindex
X-PUBLISHED-TTL:PT1H
BEGIN:VTIMEZONE
TZID:America/Chicago
BEGIN:DAYLIGHT
TZOFFSETFROM:-0600
TZOFFSETTO:-0500
TZNAME:CDT
DTSTART:20250309T080000
END:DAYLIGHT
BEGIN:STANDARD
TZOFFSETFROM:-0500
TZOFFSETTO:-0600
TZNAME:CST
DTSTART:20251102T070000
END:STANDARD
BEGIN:DAYLIGHT
TZOFFSETFROM:-0600
TZOFFSETTO:-0500
TZNAME:CDT
DTSTART:20260308T080000
END:DAYLIGHT
BEGIN:STANDARD
TZOFFSETFROM:-0500
TZOFFSETTO:-0600
TZNAME:CST
DTSTART:20261101T070000
END:STANDARD
BEGIN:DAYLIGHT
TZOFFSETFROM:-0600
TZOFFSETTO:-0500
TZNAME:CDT
DTSTART:20270314T080000
END:DAYLIGHT
BEGIN:STANDARD
TZOFFSETFROM:-0500
TZOFFSETTO:-0600
TZNAME:CST
DTSTART:20271107T070000
END:STANDARD
END:VTIMEZONE
BEGIN:VEVENT
DTSTART;VALUE=DATE:20260409
DTEND;VALUE=DATE:20260425
DTSTAMP:20260425T052017
CREATED:20260123T165105Z
LAST-MODIFIED:20260419T234820Z
UID:440-1775692800-1777075199@hewnhaven.com
SUMMARY:Eastern Redbuds are Blooming
DESCRIPTION:As the winter chill finally breaks\, the Eastern Redbud stages a breathtaking\, magenta-pink magic trick! Often called the “harbinger of spring\,” these cheerful understory trees don’t bother waiting for leaves to appear. Instead\, they explode in a profusion of rosy\, pea-shaped blossoms that cover their bare branches and even sprout directly from the trunk in a dazzling display known as cauliflory.\n\nIt’s a fleeting\, high-contrast spectacle—often lasting only a few weeks in March or April—where brilliant magenta clusters light up woodland edges and residential landscapes alike\, perfectly paired with the bright yellow of forsythia. A true showstopper\, the redbud brings a vibrant\, almost neon\, pop of color to the landscape\, reminding everyone that spring has finally arrived with a sweet-sour\, edible splash of color.
URL:https://hewnhaven.com/event/eastern-redbuds-are-blooming
LOCATION:The Farm\, Missouri\, United States
CATEGORIES:What Nature's Doing
END:VEVENT
BEGIN:VEVENT
DTSTART;VALUE=DATE:20260410
DTEND;VALUE=DATE:20260411
DTSTAMP:20260425T052017
CREATED:20260304T215550Z
LAST-MODIFIED:20260304T220018Z
UID:655-1775779200-1775865599@hewnhaven.com
SUMMARY:Humming Birds Arrive
DESCRIPTION:The “Hummingbird Highway” is officially open at Hewnhaven! Our tiny\, speedy summer residents have returned to Southern Missouri\, buzzing around the feeders and battling over the best nectar spots. Come watch these iridescent aerial acrobats fuel up; it’s a tiny\, high-speed\, sugar-fueled show you won’t want to miss! \nEvent Highlights: \n\nAerial Battles: Watch the feisty males chase each other around the feeders.\nThe Buzz: Enjoy the constant\, mesmerizing hum of wings.\nNative Blooms: See them feeding on native plants like beautyberry and trumpet creeper.\nBest Viewing: Prime viewing is on rocky slopes in the early morning.\n\nBring your cameras and witness the magic of the annual return!
URL:https://hewnhaven.com/event/humming-birds-arrive
LOCATION:The Farm\, Missouri\, United States
CATEGORIES:What Nature's Doing
END:VEVENT
END:VCALENDAR