BEGIN:VCALENDAR
VERSION:2.0
PRODID:-//HewnHaven is a farm and workshop business that focuses on quality meat, old-world crafts, and ecological land management - ECPv6.15.20//NONSGML v1.0//EN
CALSCALE:GREGORIAN
METHOD:PUBLISH
X-ORIGINAL-URL:https://hewnhaven.com
X-WR-CALDESC:Events for HewnHaven is a farm and workshop business that focuses on quality meat, old-world crafts, and ecological land management
REFRESH-INTERVAL;VALUE=DURATION:PT1H
X-Robots-Tag:noindex
X-PUBLISHED-TTL:PT1H
BEGIN:VTIMEZONE
TZID:America/Chicago
BEGIN:DAYLIGHT
TZOFFSETFROM:-0600
TZOFFSETTO:-0500
TZNAME:CDT
DTSTART:20250309T080000
END:DAYLIGHT
BEGIN:STANDARD
TZOFFSETFROM:-0500
TZOFFSETTO:-0600
TZNAME:CST
DTSTART:20251102T070000
END:STANDARD
BEGIN:DAYLIGHT
TZOFFSETFROM:-0600
TZOFFSETTO:-0500
TZNAME:CDT
DTSTART:20260308T080000
END:DAYLIGHT
BEGIN:STANDARD
TZOFFSETFROM:-0500
TZOFFSETTO:-0600
TZNAME:CST
DTSTART:20261101T070000
END:STANDARD
BEGIN:DAYLIGHT
TZOFFSETFROM:-0600
TZOFFSETTO:-0500
TZNAME:CDT
DTSTART:20270314T080000
END:DAYLIGHT
BEGIN:STANDARD
TZOFFSETFROM:-0500
TZOFFSETTO:-0600
TZNAME:CST
DTSTART:20271107T070000
END:STANDARD
END:VTIMEZONE
BEGIN:VEVENT
DTSTART;VALUE=DATE:20260315
DTEND;VALUE=DATE:20260503
DTSTAMP:20260421T094802
CREATED:20260126T214030Z
LAST-MODIFIED:20260126T214030Z
UID:487-1773532800-1777766399@hewnhaven.com
SUMMARY:Cedar Tree Harvesting
DESCRIPTION:There’s no smell quite like freshly cut cedar in springtime\, especially when the sap is running and it’s acting like glue-remover on the bark! I’m standing here in the middle of my clearing\, bark-spud in hand\, looking at a pile of cedar that’s about to become the sturdy structures for future projects. \nI start at the top\, pushing the edge of the blade under the rough\, outer layer. It’s immensely satisfying—like opening a giant woody Christmas present—revealing that bright\, pale amber wood underneath. Sometimes I get lucky and a whole\, long ribbon of bark sloughs off like a shedding snake\, making me feel like the king of the woods. \nThe knots are the real troublemakers\, though. They make the spud buck and jump\, forcing me to stop and carve around them\, which just makes the final pole look more rustic.
URL:https://hewnhaven.com/event/cedar-tree-harvesting
LOCATION:The Farm\, Missouri\, United States
CATEGORIES:Traditional Skills
END:VEVENT
BEGIN:VEVENT
DTSTART;VALUE=DATE:20260405
DTEND;VALUE=DATE:20260508
DTSTAMP:20260421T094802
CREATED:20260123T171244Z
LAST-MODIFIED:20260419T235028Z
UID:448-1775347200-1778198399@hewnhaven.com
SUMMARY:Foraging Morel Mushrooms
DESCRIPTION:Foraging for morels is part Easter egg hunt\, part high-stakes treasure hunt\, and 100% woodland magic! When spring wakes up\, these brainy\, honeycomb-textured treasures pop up around dead elms or in old orchards\, playing hide-and-seek with your eyes. \nIt’s a “springy” adventure where we find ourselves walking like a zombie\, staring intently at the ground\, only to scream in delight when we spot that first\, perfectly camouflaged\, hollow cone. Finding them is a rush\, but after a toss into a buttered skillet—deliscious!
URL:https://hewnhaven.com/event/foraging-morel-mushrooms
LOCATION:The Farm\, Missouri\, United States
CATEGORIES:Traditional Skills
END:VEVENT
BEGIN:VEVENT
DTSTART;VALUE=DATE:20260420
DTEND;VALUE=DATE:20260511
DTSTAMP:20260421T094802
CREATED:20260123T175522Z
LAST-MODIFIED:20260123T175522Z
UID:455-1776643200-1778457599@hewnhaven.com
SUMMARY:Spring Turkey Season
DESCRIPTION:Spring turkey hunting is essentially a high-stakes\, caffeine-fueled chess match played in a sunrise-lit\, waking forest. It is arguably one of the most interactive hunts\, where you are not just waiting\, but actively screaming (via calls) at a bird that often screams back in a boisterous\, adrenaline-pumping gobble that makes the hair on your neck stand up. \n  \n\n\nIt is all about the “spring strut”—when Toms are strutting and fanning their metallic\, iridescent feathers while trying to show off for hens\, often attacking decoys in a show of pure\, stubborn machismo.
URL:https://hewnhaven.com/event/spring-turkey-season
LOCATION:The Farm\, Missouri\, United States
CATEGORIES:Traditional Skills
END:VEVENT
END:VCALENDAR